BEGIN:VCALENDAR
VERSION:2.0
PRODID:-//Cahokia Heights Chamber of Commerce - ECPv6.15.20//NONSGML v1.0//EN
CALSCALE:GREGORIAN
METHOD:PUBLISH
X-ORIGINAL-URL:https://cahokiaheightschamber.org
X-WR-CALDESC:Events for Cahokia Heights Chamber of Commerce
REFRESH-INTERVAL;VALUE=DURATION:PT1H
X-Robots-Tag:noindex
X-PUBLISHED-TTL:PT1H
BEGIN:VTIMEZONE
TZID:America/Chicago
BEGIN:DAYLIGHT
TZOFFSETFROM:-0600
TZOFFSETTO:-0500
TZNAME:CDT
DTSTART:20240310T080000
END:DAYLIGHT
BEGIN:STANDARD
TZOFFSETFROM:-0500
TZOFFSETTO:-0600
TZNAME:CST
DTSTART:20241103T070000
END:STANDARD
BEGIN:DAYLIGHT
TZOFFSETFROM:-0600
TZOFFSETTO:-0500
TZNAME:CDT
DTSTART:20250309T080000
END:DAYLIGHT
BEGIN:STANDARD
TZOFFSETFROM:-0500
TZOFFSETTO:-0600
TZNAME:CST
DTSTART:20251102T070000
END:STANDARD
BEGIN:DAYLIGHT
TZOFFSETFROM:-0600
TZOFFSETTO:-0500
TZNAME:CDT
DTSTART:20260308T080000
END:DAYLIGHT
BEGIN:STANDARD
TZOFFSETFROM:-0500
TZOFFSETTO:-0600
TZNAME:CST
DTSTART:20261101T070000
END:STANDARD
END:VTIMEZONE
BEGIN:VEVENT
DTSTART;TZID=America/Chicago:20251021T080000
DTEND;TZID=America/Chicago:20251021T170000
DTSTAMP:20260420T125336
CREATED:20251021T205047Z
LAST-MODIFIED:20251021T205622Z
UID:4362-1761033600-1761066000@cahokiaheightschamber.org
SUMMARY:2025 Workers' Compensation and Safety Conference
DESCRIPTION:To register\, click here to REGISTER. \n\n\n\n\n\nProgram Description\nThe Illinois Chamber of Commerce and the Illinois Self Insurers’ Association strive to provide the Illinois business community with timely information to ensure employers are up-to-date for Workers’ Compensation issues. This confusing\, often abused statute is one that employers and their employees need to be familiar with in order to stay in compliance. \nThis conference is designed to inform\, educate and assist employers on how to be in compliance\, and to show employers how to reduce their workers’ comp costs in the process. \n\n\n\n\n\n\nContinuing education credits:\n4.5 HRCI\n4.5 SHRM\n4.0 MCLE \n\n\n\n\n\n\n\n\n\n\n\n 
URL:https://cahokiaheightschamber.org/events/2025-workers-compensation-and-safety-conference/
LOCATION:IL
END:VEVENT
END:VCALENDAR