BEGIN:VCALENDAR
VERSION:2.0
PRODID:-//Cahokia Heights Chamber of Commerce - ECPv6.15.20//NONSGML v1.0//EN
CALSCALE:GREGORIAN
METHOD:PUBLISH
X-WR-CALNAME:Cahokia Heights Chamber of Commerce
X-ORIGINAL-URL:https://cahokiaheightschamber.org
X-WR-CALDESC:Events for Cahokia Heights Chamber of Commerce
REFRESH-INTERVAL;VALUE=DURATION:PT1H
X-Robots-Tag:noindex
X-PUBLISHED-TTL:PT1H
BEGIN:VTIMEZONE
TZID:America/Chicago
BEGIN:DAYLIGHT
TZOFFSETFROM:-0600
TZOFFSETTO:-0500
TZNAME:CDT
DTSTART:20240310T080000
END:DAYLIGHT
BEGIN:STANDARD
TZOFFSETFROM:-0500
TZOFFSETTO:-0600
TZNAME:CST
DTSTART:20241103T070000
END:STANDARD
BEGIN:DAYLIGHT
TZOFFSETFROM:-0600
TZOFFSETTO:-0500
TZNAME:CDT
DTSTART:20250309T080000
END:DAYLIGHT
BEGIN:STANDARD
TZOFFSETFROM:-0500
TZOFFSETTO:-0600
TZNAME:CST
DTSTART:20251102T070000
END:STANDARD
BEGIN:DAYLIGHT
TZOFFSETFROM:-0600
TZOFFSETTO:-0500
TZNAME:CDT
DTSTART:20260308T080000
END:DAYLIGHT
BEGIN:STANDARD
TZOFFSETFROM:-0500
TZOFFSETTO:-0600
TZNAME:CST
DTSTART:20261101T070000
END:STANDARD
END:VTIMEZONE
BEGIN:VEVENT
DTSTART;TZID=America/Chicago:20251029T183000
DTEND;TZID=America/Chicago:20251029T200000
DTSTAMP:20260420T114127
CREATED:20251019T231027Z
LAST-MODIFIED:20251019T233748Z
UID:4348-1761762600-1761768000@cahokiaheightschamber.org
SUMMARY:Managing Cash Flow for Your Business
DESCRIPTION:Managing Cash Flow for Your Business\n\n\n \n\n\n\n\n\n\n\nWhen: Wednesday\, Oct 29\, 2025 \nTime:  6:30 PM \nCost: $10.00 \nClick here to register . \n\n\n\nThis course will cover an in depth look at how cash flow information is generated from your business financial information. It explains the use of the balance sheet to create the standard accounting cashflow statement. It will then discuss how to improve cash flow and potential sources for loans and other ways to obtain cash. This course requires familiarity with financial statements and is directed at people in business. \nPresenter’s Bios:  \nKeith Vollmar For 20 years I have worked with businesses from $1.0 to $100.0 million in sales with the following activities and services: Part-Time CFO Roles Business Plan Development Cash Flow Forecasting Establish and Maintain Banking Relationships Educate Owners on financial statements Analyze Financial Statement results and information Establish Key Performance Indicators – Both financial and non-financial \nStuart Epstein: My background in financial analysis\, accounting\, and financial controls gave me a good overview of what it takes to operate a company successfully. My strengths are in helping companies understand their operations and financial results with an eye to monitoring profitability. With my small company experience\, where one learns to wear many hats\, I can help business owners with the various aspects of business they need to consider to be successful. \nRegistration Information:   \n\nUpon registering you will receive a confirmation email with the SCORE Zoom link to attend.  \nYou do not need a Zoom account to participate.  \nPlease connect 5 minutes in advance to be sure you have a good connection. The workshop begins promptly at 6:30PM and concludes by 8:00PM CDT.\n\nSCORE strives to host inclusive\, accessible events that enable all individuals\, including individuals with disabilities\, to engage fully. To request an accommodation or for inquiries about accessibility\, please contact: Score St Louis Chapter Admin\, ch.admin0021@scorevolunteer.org\, 866 726-7340. \n\n\n\n\n\n\n\n\n\n  \n\n\n\n\n\n\n\n\n 
URL:https://cahokiaheightschamber.org/events/managing-cash-flow-for-your-business/
LOCATION:OnLine
END:VEVENT
END:VCALENDAR