BEGIN:VCALENDAR
VERSION:2.0
PRODID:-//Cahokia Heights Chamber of Commerce - ECPv6.15.20//NONSGML v1.0//EN
CALSCALE:GREGORIAN
METHOD:PUBLISH
X-WR-CALNAME:Cahokia Heights Chamber of Commerce
X-ORIGINAL-URL:https://cahokiaheightschamber.org
X-WR-CALDESC:Events for Cahokia Heights Chamber of Commerce
REFRESH-INTERVAL;VALUE=DURATION:PT1H
X-Robots-Tag:noindex
X-PUBLISHED-TTL:PT1H
BEGIN:VTIMEZONE
TZID:America/Chicago
BEGIN:DAYLIGHT
TZOFFSETFROM:-0600
TZOFFSETTO:-0500
TZNAME:CDT
DTSTART:20240310T080000
END:DAYLIGHT
BEGIN:STANDARD
TZOFFSETFROM:-0500
TZOFFSETTO:-0600
TZNAME:CST
DTSTART:20241103T070000
END:STANDARD
BEGIN:DAYLIGHT
TZOFFSETFROM:-0600
TZOFFSETTO:-0500
TZNAME:CDT
DTSTART:20250309T080000
END:DAYLIGHT
BEGIN:STANDARD
TZOFFSETFROM:-0500
TZOFFSETTO:-0600
TZNAME:CST
DTSTART:20251102T070000
END:STANDARD
BEGIN:DAYLIGHT
TZOFFSETFROM:-0600
TZOFFSETTO:-0500
TZNAME:CDT
DTSTART:20260308T080000
END:DAYLIGHT
BEGIN:STANDARD
TZOFFSETFROM:-0500
TZOFFSETTO:-0600
TZNAME:CST
DTSTART:20261101T070000
END:STANDARD
END:VTIMEZONE
BEGIN:VEVENT
DTSTART;TZID=America/Chicago:20251101T093000
DTEND;TZID=America/Chicago:20251101T113000
DTSTAMP:20260420T095111
CREATED:20251019T232801Z
LAST-MODIFIED:20251019T234434Z
UID:4352-1761989400-1761996600@cahokiaheightschamber.org
SUMMARY:How to Start and Manage Your Own Business
DESCRIPTION:How to Start and Manage Your Own Business\n\n\n\n \n\n\n\n  \n\n\n\n\nWhen: Saturday\, November 1\, 2025 \nTime:  9:30 AM \nCost: $10.00 \nClick here to register . \n\n\n\n\n\nDo you have what it takes to start and run a successful business? If so\, what are the first steps you should take? This workshop will help you assess your prospects\, give you the initial direction you need\, and inspire you to move forward to realize your dream. In addition\, you will have an opportunity to NETWORK with other business-minded people who are considering starting a business. \nTopics covered are: \n\nIt all starts with a PLAN – A BUSINESS PLAN\nMarketing for today’s small business.\nWhat is the right legal business structure for my business?\nWhat should I know about licenses\, taxes\, and insurance?\nWhat technology considerations are important for my business?\nAn introduction to the financial side of a business. Where do I get funding?\nOur 3-Point approach to Business Education – Basic Business\, Business Topic\, and Interactive Business Education\n\nTakeaways: \n\nWhat is needed to start a business\nWhat are the key parts of a business\nThe need for a plan – A BUSINESS PLAN\nWhat is the next Step-Attend our next Business Plan Workshop\n\nPresenter Bios: \nAlan Ludmer: is President of ARL\, INC. which provides marketing and management support services to selected entrepreneurial firms\, individuals\, and not for profit organizations. In addition\, he provides individual and organizational career coaching services. \nHe has over 50 years of professional experience in marketing\, management\, training and business ownership. He has served in senior management positions in several national corporations\, and has developed and implemented sophisticated management\, marketing\, and training programs for diverse corporate and individual clients nationwide. \nRobert Pennell: Building a business takes commitment and determination – not to mention patience. I’ve successfully developed a business plan\, secured institutional financing\, recruited necessary personnel\, and promoted the start-up of my legal practice so I know what needs to be done. For ongoing success you have to build a loyal client base. In my case that was through personal attention\, quality service and consistent follow through but every business model is different. The key is to identify your core market and determine the best way to drive business to that market which is much easier said than done. Through SCORE we can help you to answer these questions. I’d like to be able to help you move your business goals forward through SCORE. \nKeith Vollmar: For 20 years I have worked with businesses from $1.0 to $100.0 million in sales with the following activities and services: Part-Time CFO Roles Business Plan Development Cash Flow Forecasting Establish and Maintain Banking Relationships Educate Owners on financial statements Analyze Financial Statement results and information Establish Key Performance Indicators – Both financial and non-financial \nRegistration Information: \n\nUpon registering you will receive a confirmation email with the SCORE Zoom link to attend.\nYou do not need a Zoom account to participate.\nPlease connect 5 minutes in advance to be sure you have a good connection. The workshop begins promptly at 09:30AM and concludes by 11:30AM Central Time.\n\nSCORE strives to host inclusive\, accessible events that enable all individuals\, including individuals with disabilities\, to engage fully. To request an accommodation or for inquiries about accessibility\, please contact: Score St Louis Chapter Admin\, ch.admin0021@scorevolunteer.org\, 866 726-7340. \n\n\n\n\n\n\n\n\n\n\n  \n\n\n\n\n\n\n\n\n 
URL:https://cahokiaheightschamber.org/events/how-to-start-and-manage-your-own-business/
LOCATION:OnLine
END:VEVENT
BEGIN:VEVENT
DTSTART;TZID=America/Chicago:20251120T103000
DTEND;TZID=America/Chicago:20251120T120000
DTSTAMP:20260420T095111
CREATED:20251017T034301Z
LAST-MODIFIED:20251017T034643Z
UID:4319-1763634600-1763640000@cahokiaheightschamber.org
SUMMARY:Navigating Employee Background Check Legal Landmines
DESCRIPTION:Click here to register…\nThis 90-minute webinar will be presented by Labor & Employment Attorney\, Jeff Risch of Amundsen Davis LLC\, and will focus on the latest developments concerning best practices that employers need to know and note concerning employment related background checks. From navigating mandates under the Fair Credit Reporting Act to the latest requirements under the Illinois Human Rights Act\, Attorney Risch will identify exactly what employers need to know and implement in response to the latest legal mandates. \nLocation: Virtual event \nDate and time: Thu\, Nov 20\, 2025 10:30 AM – 12:00 PM \nOrganizer: Jill Vancil\, (217) 991-8590\, jvancil@ilchamber.org \nCost: (Member) $120 before 11/10\, $145.00 after 11/10; (Non-member) $150.00 before 11/10\, $175.00 after 11/10
URL:https://cahokiaheightschamber.org/events/navigating-employee-background-check-legal-landmines/
LOCATION:OnLine
END:VEVENT
BEGIN:VEVENT
DTSTART;TZID=America/Chicago:20251120T163000
DTEND;TZID=America/Chicago:20251120T173000
DTSTAMP:20260420T095111
CREATED:20251017T041019Z
LAST-MODIFIED:20251120T000814Z
UID:4323-1763656200-1763659800@cahokiaheightschamber.org
SUMMARY:Cahokia Hgts Chamber of Commerce: November Membership Meeting
DESCRIPTION:November 20\, 2025 Chamber November Members Meeting\nPlan to attend your Chambers regularly scheduled monthly meeting (3rd Thursday of each month). \nLOCATION: Cahokia Heights Fitness Center\, Cahokia Hgts\, IL 62206 \nTIME: 4:30 PM (CST) \n\n\n  \n\n\n \n\n\n\n\n\n\n\n\n 
URL:https://cahokiaheightschamber.org/events/cahokia-hgts-chamber-of-commerce-monthly-membership-meeting/
LOCATION:Cahokia Heights Community & Fitness Center\, 509 Camp Jackson Rd.\, Cahokia\, IL\, 62206\, United States
ORGANIZER;CN="Cahokia Heights Chamber of Commerce":MAILTO:events@cahokiaheightschamber.org
END:VEVENT
END:VCALENDAR